BEGIN:VCALENDAR
VERSION:2.0
PRODID:-//Schule am Deich - ECPv6.15.20//NONSGML v1.0//EN
CALSCALE:GREGORIAN
METHOD:PUBLISH
X-ORIGINAL-URL:https://schule-am-deich.de
X-WR-CALDESC:Veranstaltungen für Schule am Deich
REFRESH-INTERVAL;VALUE=DURATION:PT1H
X-Robots-Tag:noindex
X-PUBLISHED-TTL:PT1H
BEGIN:VTIMEZONE
TZID:Europe/Berlin
BEGIN:DAYLIGHT
TZOFFSETFROM:+0100
TZOFFSETTO:+0200
TZNAME:CEST
DTSTART:20250330T010000
END:DAYLIGHT
BEGIN:STANDARD
TZOFFSETFROM:+0200
TZOFFSETTO:+0100
TZNAME:CET
DTSTART:20251026T010000
END:STANDARD
BEGIN:DAYLIGHT
TZOFFSETFROM:+0100
TZOFFSETTO:+0200
TZNAME:CEST
DTSTART:20260329T010000
END:DAYLIGHT
BEGIN:STANDARD
TZOFFSETFROM:+0200
TZOFFSETTO:+0100
TZNAME:CET
DTSTART:20261025T010000
END:STANDARD
BEGIN:DAYLIGHT
TZOFFSETFROM:+0100
TZOFFSETTO:+0200
TZNAME:CEST
DTSTART:20270328T010000
END:DAYLIGHT
BEGIN:STANDARD
TZOFFSETFROM:+0200
TZOFFSETTO:+0100
TZNAME:CET
DTSTART:20271031T010000
END:STANDARD
END:VTIMEZONE
BEGIN:VEVENT
DTSTART;TZID=Europe/Berlin:20260302T190000
DTEND;TZID=Europe/Berlin:20260302T203000
DTSTAMP:20260420T140053
CREATED:20250828T184232Z
LAST-MODIFIED:20250828T192910Z
UID:5019-1772478000-1772483400@schule-am-deich.de
SUMMARY:Elternabend zur "Echt Klasse" Präventionsausstellung in der Stadthalle Rheinberg
DESCRIPTION:
URL:https://schule-am-deich.de/event/elternabend-zur-echt-klasse-praeventionsausstellung
LOCATION:Stadthalle Rheinberg
CATEGORIES:Schulveranstaltungen
END:VEVENT
BEGIN:VEVENT
DTSTART;VALUE=DATE:20260303
DTEND;VALUE=DATE:20260304
DTSTAMP:20260420T140053
CREATED:20240215T170003Z
LAST-MODIFIED:20250608T081719Z
UID:3671-1772496000-1772582399@schule-am-deich.de
SUMMARY:Ausstellung „Echt Klasse“ im Stadthaus Rheinberg - Jg. 4
DESCRIPTION:Schulausstellung zum Themenbereich “Prävention von sexueller Gewalt”
URL:https://schule-am-deich.de/event/ausstellung-echt-klasse-stadthaus-rheinberg-2
LOCATION:Stadthalle Rheinberg
CATEGORIES:Schulveranstaltungen
END:VEVENT
BEGIN:VEVENT
DTSTART;VALUE=DATE:20260304
DTEND;VALUE=DATE:20260305
DTSTAMP:20260420T140053
CREATED:20240215T154045Z
LAST-MODIFIED:20250608T081748Z
UID:3667-1772582400-1772668799@schule-am-deich.de
SUMMARY:Ausstellung „Echt Klasse“ im Stadthaus Rheinberg - Jg. 3
DESCRIPTION:Schulausstellung zum Themenbereich “Prävention von sexueller Gewalt”
URL:https://schule-am-deich.de/event/ausstellung-echt-klasse-stadthaus-rheinberg
LOCATION:Stadthalle Rheinberg
CATEGORIES:Schulveranstaltungen
END:VEVENT
BEGIN:VEVENT
DTSTART;TZID=Europe/Berlin:20260306T100000
DTEND;TZID=Europe/Berlin:20260306T104500
DTSTAMP:20260420T140053
CREATED:20220912T113930Z
LAST-MODIFIED:20260216T143052Z
UID:2519-1772791200-1772793900@schule-am-deich.de
SUMMARY:4. Sitzung des Kinderparlaments    Jg. 1-4
DESCRIPTION:
URL:https://schule-am-deich.de/event/4-kinderparlament
CATEGORIES:Schulveranstaltungen
END:VEVENT
BEGIN:VEVENT
DTSTART;TZID=Europe/Berlin:20260310T190000
DTEND;TZID=Europe/Berlin:20260310T210000
DTSTAMP:20260420T140053
CREATED:20260216T143251Z
LAST-MODIFIED:20260216T143251Z
UID:5311-1773169200-1773176400@schule-am-deich.de
SUMMARY:2. Planungstreffen Schulfest
DESCRIPTION:
URL:https://schule-am-deich.de/event/2-planungstreffen-schulfest
CATEGORIES:Klassenveranstaltung,Schulveranstaltungen
END:VEVENT
BEGIN:VEVENT
DTSTART;TZID=Europe/Berlin:20260312T190000
DTEND;TZID=Europe/Berlin:20260312T210000
DTSTAMP:20260420T140053
CREATED:20260216T143355Z
LAST-MODIFIED:20260216T143355Z
UID:5313-1773342000-1773349200@schule-am-deich.de
SUMMARY:Gemeinsame Sitzung Schulpflegschaft und Schulkonferenz
DESCRIPTION:
URL:https://schule-am-deich.de/event/gemeinsame-sitzung-schulpflegschaft-und-schulkonferenz
CATEGORIES:Schulveranstaltungen
END:VEVENT
BEGIN:VEVENT
DTSTART;VALUE=DATE:20260316
DTEND;VALUE=DATE:20260501
DTSTAMP:20260420T140053
CREATED:20250311T202629Z
LAST-MODIFIED:20260216T143544Z
UID:4710-1773619200-1777593599@schule-am-deich.de
SUMMARY:Elternsprechwochen Jg. 1-4
DESCRIPTION:
URL:https://schule-am-deich.de/event/elternsprechwochen-jg-1-4-2
CATEGORIES:Schulveranstaltungen
END:VEVENT
BEGIN:VEVENT
DTSTART;VALUE=DATE:20260317
DTEND;VALUE=DATE:20260318
DTSTAMP:20260420T140053
CREATED:20220625T184946Z
LAST-MODIFIED:20260216T143723Z
UID:2301-1773705600-1773791999@schule-am-deich.de
SUMMARY:Fluoridierung Jg. 4 durch das Gesundheitsamt Wesel
DESCRIPTION:
URL:https://schule-am-deich.de/event/fluoridierung-3
CATEGORIES:Schulveranstaltungen
END:VEVENT
BEGIN:VEVENT
DTSTART;VALUE=DATE:20260318
DTEND;VALUE=DATE:20260319
DTSTAMP:20260420T140053
CREATED:20220625T184901Z
LAST-MODIFIED:20260216T143843Z
UID:2299-1773792000-1773878399@schule-am-deich.de
SUMMARY:Fluoridierung Jg 3 und 2a durch das Gesundheitsamt Wesel
DESCRIPTION:
URL:https://schule-am-deich.de/event/fluoridierung-2
CATEGORIES:Schulveranstaltungen
END:VEVENT
BEGIN:VEVENT
DTSTART;VALUE=DATE:20260319
DTEND;VALUE=DATE:20260320
DTSTAMP:20260420T140053
CREATED:20220625T184759Z
LAST-MODIFIED:20260216T144148Z
UID:2297-1773878400-1773964799@schule-am-deich.de
SUMMARY:Fluoridierung Jg 1 und 2b durch das Gesundheitsamt Wesel
DESCRIPTION:
URL:https://schule-am-deich.de/event/fluoridierung
CATEGORIES:Schulveranstaltungen
END:VEVENT
BEGIN:VEVENT
DTSTART;TZID=Europe/Berlin:20260319T080000
DTEND;TZID=Europe/Berlin:20260319T100000
DTSTAMP:20260420T140053
CREATED:20250311T202741Z
LAST-MODIFIED:20260216T144430Z
UID:4712-1773907200-1773914400@schule-am-deich.de
SUMMARY:Jg. 3/ 4 Känguru der Mathematik
DESCRIPTION:
URL:https://schule-am-deich.de/event/jg-3-4-kaenguru-der-mathematik
CATEGORIES:Schulveranstaltungen
END:VEVENT
BEGIN:VEVENT
DTSTART;VALUE=DATE:20260323
DTEND;VALUE=DATE:20260328
DTSTAMP:20260420T140053
CREATED:20250902T131554Z
LAST-MODIFIED:20250902T131554Z
UID:5043-1774224000-1774655999@schule-am-deich.de
SUMMARY:Forscherwoche "Haus der kleinen Forscher"
DESCRIPTION:
URL:https://schule-am-deich.de/event/forscherwoche-haus-der-kleinen-forscher
CATEGORIES:Schulveranstaltungen
END:VEVENT
BEGIN:VEVENT
DTSTART;VALUE=DATE:20260330
DTEND;VALUE=DATE:20260411
DTSTAMP:20260420T140053
CREATED:20250529T180045Z
LAST-MODIFIED:20250529T180045Z
UID:4846-1774828800-1775865599@schule-am-deich.de
SUMMARY:Osterferien
DESCRIPTION:
URL:https://schule-am-deich.de/event/osterferien-2
CATEGORIES:Information
END:VEVENT
END:VCALENDAR