BEGIN:VCALENDAR
VERSION:2.0
PRODID:-//Schule am Deich - ECPv6.15.20//NONSGML v1.0//EN
CALSCALE:GREGORIAN
METHOD:PUBLISH
X-WR-CALNAME:Schule am Deich
X-ORIGINAL-URL:https://schule-am-deich.de
X-WR-CALDESC:Veranstaltungen für Schule am Deich
REFRESH-INTERVAL;VALUE=DURATION:PT1H
X-Robots-Tag:noindex
X-PUBLISHED-TTL:PT1H
BEGIN:VTIMEZONE
TZID:Europe/Berlin
BEGIN:DAYLIGHT
TZOFFSETFROM:+0100
TZOFFSETTO:+0200
TZNAME:CEST
DTSTART:20250330T010000
END:DAYLIGHT
BEGIN:STANDARD
TZOFFSETFROM:+0200
TZOFFSETTO:+0100
TZNAME:CET
DTSTART:20251026T010000
END:STANDARD
BEGIN:DAYLIGHT
TZOFFSETFROM:+0100
TZOFFSETTO:+0200
TZNAME:CEST
DTSTART:20260329T010000
END:DAYLIGHT
BEGIN:STANDARD
TZOFFSETFROM:+0200
TZOFFSETTO:+0100
TZNAME:CET
DTSTART:20261025T010000
END:STANDARD
BEGIN:DAYLIGHT
TZOFFSETFROM:+0100
TZOFFSETTO:+0200
TZNAME:CEST
DTSTART:20270328T010000
END:DAYLIGHT
BEGIN:STANDARD
TZOFFSETFROM:+0200
TZOFFSETTO:+0100
TZNAME:CET
DTSTART:20271031T010000
END:STANDARD
END:VTIMEZONE
BEGIN:VEVENT
DTSTART;VALUE=DATE:20260203
DTEND;VALUE=DATE:20260204
DTSTAMP:20260424T120124
CREATED:20220910T092814Z
LAST-MODIFIED:20260127T152747Z
UID:2424-1770076800-1770163199@schule-am-deich.de
SUMMARY:Projekt "Gewaltfrei lernen" - 1a\, 1b\, 4a
DESCRIPTION:
URL:https://schule-am-deich.de/event/gewaltfrei-lernen-6
CATEGORIES:Schulveranstaltungen
END:VEVENT
BEGIN:VEVENT
DTSTART;VALUE=DATE:20260204
DTEND;VALUE=DATE:20260205
DTSTAMP:20260424T120124
CREATED:20210915T161402Z
LAST-MODIFIED:20260127T153230Z
UID:1760-1770163200-1770249599@schule-am-deich.de
SUMMARY:Ausgabe der Zeugnisse Jg. 3/4 und Förderempfehlungen Jg. 2
DESCRIPTION:
URL:https://schule-am-deich.de/event/zeugnisausgabe-klasse-3-und-4
CATEGORIES:Information,Schulveranstaltungen
END:VEVENT
BEGIN:VEVENT
DTSTART;VALUE=DATE:20260204
DTEND;VALUE=DATE:20260205
DTSTAMP:20260424T120124
CREATED:20220910T092739Z
LAST-MODIFIED:20260127T152826Z
UID:2422-1770163200-1770249599@schule-am-deich.de
SUMMARY:Projekt "Gewaltfrei lernen" 1a\, 1b\, 4c
DESCRIPTION:
URL:https://schule-am-deich.de/event/gewaltfrei-lernen-5
CATEGORIES:Schulveranstaltungen
END:VEVENT
BEGIN:VEVENT
DTSTART;TZID=Europe/Berlin:20260204T190000
DTEND;TZID=Europe/Berlin:20260204T200000
DTSTAMP:20260424T120124
CREATED:20260127T153441Z
LAST-MODIFIED:20260127T153517Z
UID:5281-1770231600-1770235200@schule-am-deich.de
SUMMARY:Elternabend "Gewaltfrei lernen" online
DESCRIPTION:Informationsabend (online) für Eltern zu Gewaltfrei lernen durch Frau Sibylle Wanders (Leiterin von Gewaltfrei lernen)
URL:https://schule-am-deich.de/event/elternabend-gewaltfrei-lernen-online
CATEGORIES:Information,Schulveranstaltungen
END:VEVENT
BEGIN:VEVENT
DTSTART;VALUE=DATE:20260205
DTEND;VALUE=DATE:20260206
DTSTAMP:20260424T120124
CREATED:20200122T145047Z
LAST-MODIFIED:20260127T152928Z
UID:879-1770249600-1770335999@schule-am-deich.de
SUMMARY:Projekt "Gewaltfrei Lernen" - 1a\, 1b\, 3a\, 4b
DESCRIPTION:
URL:https://schule-am-deich.de/event/gewaltfrei-lernen-3
CATEGORIES:Schulveranstaltungen
END:VEVENT
BEGIN:VEVENT
DTSTART;VALUE=DATE:20260205
DTEND;VALUE=DATE:20260206
DTSTAMP:20260424T120124
CREATED:20230814T153411Z
LAST-MODIFIED:20260127T153117Z
UID:3284-1770249600-1770335999@schule-am-deich.de
SUMMARY:Aussprache zu den Zeugnissen und Förderempfehlungen (nach Anmeldung)
DESCRIPTION:
URL:https://schule-am-deich.de/event/aussprache-zu-den-zeugnissen-und-foerderempfehlungen-nach-anmeldung
CATEGORIES:Information,Schulveranstaltungen
END:VEVENT
BEGIN:VEVENT
DTSTART;TZID=Europe/Berlin:20260206T075500
DTEND;TZID=Europe/Berlin:20260206T104000
DTSTAMP:20260424T120124
CREATED:20220920T174533Z
LAST-MODIFIED:20260128T193424Z
UID:2571-1770364500-1770374400@schule-am-deich.de
SUMMARY:Ende des 1. Halbjahres
DESCRIPTION:Unterrichtsschluss nach der 3. Stunde\, \nBus fährt nach der 3.\, 6. Stunde und zum Ende der Betreuungszeit OGS\, \nBetreuung findet wie gewohnt statt
URL:https://schule-am-deich.de/event/ende-des-1-halbjahres
CATEGORIES:Information,Schulveranstaltungen
END:VEVENT
BEGIN:VEVENT
DTSTART;TZID=Europe/Berlin:20260211T111500
DTEND;TZID=Europe/Berlin:20260211T120000
DTSTAMP:20260424T120124
CREATED:20251116T095451Z
LAST-MODIFIED:20251116T095451Z
UID:5222-1770808500-1770811200@schule-am-deich.de
SUMMARY:WDR Schulkonzert-Tournee: Dackl trifft Beethoven - Kammermusikensemble des WDR Sinfonieorchesters  Jg. 3/4
DESCRIPTION:
URL:https://schule-am-deich.de/event/wdr-schulkonzert-tournee-dackl-trifft-beethoven-kammermusikensemble-des-wdr-sinfonieorchesters-jg-3-4
CATEGORIES:Schulveranstaltungen
END:VEVENT
BEGIN:VEVENT
DTSTART;TZID=Europe/Berlin:20260213T100000
DTEND;TZID=Europe/Berlin:20260213T113000
DTSTAMP:20260424T120124
CREATED:20200122T144656Z
LAST-MODIFIED:20260127T153916Z
UID:873-1770976800-1770982200@schule-am-deich.de
SUMMARY:Karnevalsfeier in der Schule
DESCRIPTION:1./2. Stunde Unterricht\, 3. Stunde Karnevalsfeier im Forum\, 4. Stunde Karnevalsfeier im Klassenverband \nUnterricht endet für alle Kinder nach der 4. Stunde \nBus fährt nach der 4.\, 6. Stunde und zum Ende der Betreuungszeit OGS \nBetreuung findet wie gewohnt statt
URL:https://schule-am-deich.de/event/karnevalsfeier
CATEGORIES:Schulveranstaltungen
END:VEVENT
BEGIN:VEVENT
DTSTART;VALUE=DATE:20260216
DTEND;VALUE=DATE:20260217
DTSTAMP:20260424T120124
CREATED:20260125T111204Z
LAST-MODIFIED:20260125T111204Z
UID:5275-1771200000-1771286399@schule-am-deich.de
SUMMARY:Rosenmontag - beweglicher Ferientag
DESCRIPTION:kein Unterricht\, keine Betreuung\, kein Bus
URL:https://schule-am-deich.de/event/rosenmontag-beweglicher-ferientag
CATEGORIES:Information,Schulveranstaltungen
END:VEVENT
BEGIN:VEVENT
DTSTART;VALUE=DATE:20260217
DTEND;VALUE=DATE:20260218
DTSTAMP:20260424T120124
CREATED:20191030T205132Z
LAST-MODIFIED:20260127T154205Z
UID:692-1771286400-1771372799@schule-am-deich.de
SUMMARY:Veilchendienstag - Unterrichtstag
DESCRIPTION:Der Unterricht und die Betreuung finden wie gewohnt statt!
URL:https://schule-am-deich.de/event/beweglicher-ferientag-2
CATEGORIES:Information,Schulveranstaltungen
END:VEVENT
BEGIN:VEVENT
DTSTART;VALUE=DATE:20260219
DTEND;VALUE=DATE:20260220
DTSTAMP:20260424T120124
CREATED:20260216T141919Z
LAST-MODIFIED:20260216T141919Z
UID:5301-1771459200-1771545599@schule-am-deich.de
SUMMARY:Schnuppertraining Hockey Jg.1
DESCRIPTION:
URL:https://schule-am-deich.de/event/schnuppertraining-hockey-jg-1
CATEGORIES:Klassenveranstaltung,Schulveranstaltungen
END:VEVENT
BEGIN:VEVENT
DTSTART;TZID=Europe/Berlin:20260219T083000
DTEND;TZID=Europe/Berlin:20260219T093000
DTSTAMP:20260424T120124
CREATED:20250529T173551Z
LAST-MODIFIED:20260127T154441Z
UID:4827-1771489800-1771493400@schule-am-deich.de
SUMMARY:Wortgottesdienst in der evangelischen Kirche Jg. 2/4
DESCRIPTION:
URL:https://schule-am-deich.de/event/wortgottesdienst-in-der-evangelischen-kirche-jg-3-4
CATEGORIES:Schulveranstaltungen
END:VEVENT
BEGIN:VEVENT
DTSTART;TZID=Europe/Berlin:20260219T190000
DTEND;TZID=Europe/Berlin:20260219T210000
DTSTAMP:20260424T120124
CREATED:20240215T153558Z
LAST-MODIFIED:20260216T142033Z
UID:3665-1771527600-1771534800@schule-am-deich.de
SUMMARY:2. Klassenpflegschaft 4a\, 4b und 4c
DESCRIPTION:
URL:https://schule-am-deich.de/event/2-klassenpflegschaft-4a-und-4b
LOCATION:Forum
CATEGORIES:Klassenveranstaltung,Schulveranstaltungen
END:VEVENT
BEGIN:VEVENT
DTSTART;TZID=Europe/Berlin:20260220T100000
DTEND;TZID=Europe/Berlin:20260220T113000
DTSTAMP:20260424T120124
CREATED:20260216T142145Z
LAST-MODIFIED:20260216T142145Z
UID:5304-1771581600-1771587000@schule-am-deich.de
SUMMARY:Schnuppertraining Hockey 2a
DESCRIPTION:
URL:https://schule-am-deich.de/event/schnuppertraining-hockey-2a
CATEGORIES:Klassenveranstaltung,Schulveranstaltungen
END:VEVENT
BEGIN:VEVENT
DTSTART;TZID=Europe/Berlin:20260223T190000
DTEND;TZID=Europe/Berlin:20260223T210000
DTSTAMP:20260424T120124
CREATED:20240215T153421Z
LAST-MODIFIED:20260216T142235Z
UID:3661-1771873200-1771880400@schule-am-deich.de
SUMMARY:2. Klassenpflegschaft    1a und 1b
DESCRIPTION:
URL:https://schule-am-deich.de/event/2-klassenpflegschaft-1a-und-1b
LOCATION:Forum
CATEGORIES:Klassenveranstaltung,Schulveranstaltungen
END:VEVENT
BEGIN:VEVENT
DTSTART;TZID=Europe/Berlin:20260225T100000
DTEND;TZID=Europe/Berlin:20260225T113000
DTSTAMP:20260424T120124
CREATED:20230131T145912Z
LAST-MODIFIED:20251113T193417Z
UID:2895-1772013600-1772019000@schule-am-deich.de
SUMMARY:Verkehrspuppenbühne Jg. 1
DESCRIPTION:
URL:https://schule-am-deich.de/event/verkehrspuppenbuehne-jg-1
LOCATION:Sekundarschule Alpen
CATEGORIES:Schulveranstaltungen
END:VEVENT
BEGIN:VEVENT
DTSTART;TZID=Europe/Berlin:20260225T190000
DTEND;TZID=Europe/Berlin:20260225T210000
DTSTAMP:20260424T120124
CREATED:20240215T153508Z
LAST-MODIFIED:20260216T142400Z
UID:3663-1772046000-1772053200@schule-am-deich.de
SUMMARY:2. Klassenpflegschaft   2a und 2b
DESCRIPTION:
URL:https://schule-am-deich.de/event/2-klassenpflegschaft-2a-2b-und-2c
LOCATION:Forum
CATEGORIES:Klassenveranstaltung,Schulveranstaltungen
END:VEVENT
BEGIN:VEVENT
DTSTART;TZID=Europe/Berlin:20260226T083000
DTEND;TZID=Europe/Berlin:20260226T093000
DTSTAMP:20260424T120124
CREATED:20250529T173703Z
LAST-MODIFIED:20260127T154402Z
UID:4829-1772094600-1772098200@schule-am-deich.de
SUMMARY:Wortgottesdienst in der evangelischen Kirche Jg. 1/3
DESCRIPTION:
URL:https://schule-am-deich.de/event/wortgottesdienst-in-der-evangelischen-kirche-jg-1-2
CATEGORIES:Schulveranstaltungen
END:VEVENT
BEGIN:VEVENT
DTSTART;TZID=Europe/Berlin:20260226T190000
DTEND;TZID=Europe/Berlin:20260226T210000
DTSTAMP:20260424T120124
CREATED:20240215T153259Z
LAST-MODIFIED:20260216T142443Z
UID:3659-1772132400-1772139600@schule-am-deich.de
SUMMARY:2. Klassenpflegschaft  3a und 3b
DESCRIPTION:
URL:https://schule-am-deich.de/event/2-klassenpflegschaft-3a-und-3b
LOCATION:Forum
CATEGORIES:Klassenveranstaltung,Schulveranstaltungen
END:VEVENT
BEGIN:VEVENT
DTSTART;TZID=Europe/Berlin:20260227T100000
DTEND;TZID=Europe/Berlin:20260227T113000
DTSTAMP:20260424T120124
CREATED:20260216T142632Z
LAST-MODIFIED:20260216T142632Z
UID:5307-1772186400-1772191800@schule-am-deich.de
SUMMARY:Schnuppertraining Hockey 2b
DESCRIPTION:
URL:https://schule-am-deich.de/event/schnuppertraining-hockey-2b
CATEGORIES:Klassenveranstaltung,Schulveranstaltungen
END:VEVENT
BEGIN:VEVENT
DTSTART;TZID=Europe/Berlin:20260227T133000
DTEND;TZID=Europe/Berlin:20260227T143000
DTSTAMP:20260424T120124
CREATED:20260216T142748Z
LAST-MODIFIED:20260216T142748Z
UID:5309-1772199000-1772202600@schule-am-deich.de
SUMMARY:Beginn Chor AG
DESCRIPTION:Teilnahme nach Anmeldung
URL:https://schule-am-deich.de/event/beginn-chor-ag
CATEGORIES:Schulveranstaltungen
END:VEVENT
END:VCALENDAR